BEGIN:VCALENDAR
VERSION:2.0
PRODID:-//SWYC Anglers - ECPv6.15.20//NONSGML v1.0//EN
CALSCALE:GREGORIAN
METHOD:PUBLISH
X-ORIGINAL-URL:https://swycanglers.org
X-WR-CALDESC:Events for SWYC Anglers
REFRESH-INTERVAL;VALUE=DURATION:PT1H
X-Robots-Tag:noindex
X-PUBLISHED-TTL:PT1H
BEGIN:VTIMEZONE
TZID:America/Los_Angeles
BEGIN:DAYLIGHT
TZOFFSETFROM:-0800
TZOFFSETTO:-0700
TZNAME:PDT
DTSTART:20220313T100000
END:DAYLIGHT
BEGIN:STANDARD
TZOFFSETFROM:-0700
TZOFFSETTO:-0800
TZNAME:PST
DTSTART:20221106T090000
END:STANDARD
BEGIN:DAYLIGHT
TZOFFSETFROM:-0800
TZOFFSETTO:-0700
TZNAME:PDT
DTSTART:20230312T100000
END:DAYLIGHT
BEGIN:STANDARD
TZOFFSETFROM:-0700
TZOFFSETTO:-0800
TZNAME:PST
DTSTART:20231105T090000
END:STANDARD
BEGIN:DAYLIGHT
TZOFFSETFROM:-0800
TZOFFSETTO:-0700
TZNAME:PDT
DTSTART:20240310T100000
END:DAYLIGHT
BEGIN:STANDARD
TZOFFSETFROM:-0700
TZOFFSETTO:-0800
TZNAME:PST
DTSTART:20241103T090000
END:STANDARD
END:VTIMEZONE
BEGIN:VEVENT
DTSTART;VALUE=DATE:20230603
DTEND;VALUE=DATE:20230604
DTSTAMP:20260423T102624
CREATED:20230509T185822Z
LAST-MODIFIED:20230613T043723Z
UID:10000005-1685750400-1685836799@swycanglers.org
SUMMARY:SD Bay Bass Fishing Tournament
DESCRIPTION:
URL:https://swycanglers.org/event/sd-bay-bass-fishing-tournament/
LOCATION:Southwestern Yacht Club\, 2702 Qualtrough Street\, San Diego\, CA\, 92106\, United States
END:VEVENT
BEGIN:VEVENT
DTSTART;TZID=America/Los_Angeles:20230614T183000
DTEND;TZID=America/Los_Angeles:20230614T210000
DTSTAMP:20260423T102624
CREATED:20230601T205722Z
LAST-MODIFIED:20230622T231743Z
UID:10000019-1686767400-1686776400@swycanglers.org
SUMMARY:Anglers Seminar With Captain Mark Martin
DESCRIPTION:SWYC Anglers Present: Fishing Strategies for Success by Captian Mark Martin.\n			\n				\n				\n				\n				\n				\n			\n			\n				\n				\n				\n				\n			\n				\n				\n				\n				\n				\n				\n				\n				\n				\n				\n				SWYC Anglers Present: Fishing Strategies for Success by Captian Mark Martin.
URL:https://swycanglers.org/event/anglers-seminar-with-captain-mark-martin/
LOCATION:Southwestern Yacht Club\, 2702 Qualtrough Street\, San Diego\, CA\, 92106\, United States
END:VEVENT
BEGIN:VEVENT
DTSTART;VALUE=DATE:20230617
DTEND;VALUE=DATE:20230618
DTSTAMP:20260423T102624
CREATED:20230509T185843Z
LAST-MODIFIED:20230823T000258Z
UID:10000006-1686960000-1687046399@swycanglers.org
SUMMARY:Halibut Tournament
DESCRIPTION:SWYC 2023 Halibut Tournament\n			\n				\n				\n				\n				\n				\n			\n			\n				\n				\n				\n				\n			\n				\n				\n				\n				\n				\n				\n				\n				\n				\n				\n				SWYC 2023 Halibut Tournament\n			\n			\n				\n				\n				\n				\n			\n				\n				\n			\n				\n				\n				\n				\n				\n				\n				\n				\n				\n				\n				\n				\n				\n				\n				\n				\n				\n				Your 2023 SWYC Halibut Tournament Winner: Marc Jaffe\nWinning Halibut: 16.4 Pound\n			\n			\n				\n				\n				\n				\n				\n				\n					\n					\n					\n				\n				\n					\n					\n					\n				\n				\n			\n				\n				\n				\n				\n			\n				\n				\n				\n				\n				\n				\n				\n				\n				\n				\n				\n				\n			\n			\n				\n				\n				\n				\n			\n				\n				\n				\n				\n				\n				\n				\n				\n				\n				\n				Top ladies \nPam Mitchell aboard Cat-Fish had a 8.75lb halibut \nSam Christian aboard Tangled Blue Spectra had a 8.25lb Halibut \n			\n			\n				\n				\n				\n				\n				\n				\n				\n				\n				\n				Top guest \nElliot on Moonstruck had a 6.35lb Hali \nMark Adams on Cat-Fish had a 6.15lb Hali and \nDamon’s Westwood on Relentless had a 4.45lb fish. \n			\n			\n				\n				\n				\n				\n				\n				\n				\n				\n				\n				Top man \nMarc Jaffe aboard Reelentless had a 16.3lb halibut \nMark Mitchell aboard Cat-Fish had a 7.0lb Hali \nSteve Methey aboard Tangled BS had a 4.9lb fish \n			\n			\n				\n				\n				\n				\n			\n				\n				\n				\n				\n				\n				\n				\n				\n				\n				\n				Halibut Tournament was a great success… \nThere were 9-boats and 33-Anglers entered this year. Although we did not have any Juniors or Smallfry’s this year we did have 6-woman competing on 5-different boats! \nBBQ and awards were at the Anglers Station afterwards. \nThree out of the nine boats each had fish. Relentless had 3\, Tangled BS had 2 and Cat-Fish had 4. \n			\n			\n				\n				\n				\n				\n			\n				\n				\n			\n				\n				\n				\n				\n				\n				\n				\n				\n				\n				\n				\n				\n				\n				\n				\n				\n				\n				\n				\n				\n					\n	\n\n                \n                        Halibut Tournament Sign Up24 Hour Cancellation notice required.Name(Required)\n                            \n                            \n                                                    First\n                                                    \n                                                \n                            \n                            \n                                                            Last\n                                                            \n                                                        \n                            \n                        Email(Required)\n                            \n                        Boat(Required)Halibut Tournament Crew Members & Captain\n\n	\n\n		\n		\n							\n					Name				\n							\n					Email				\n						Actions\n		\n		\n\n		\n		\n							 \n							 \n						\n				\n					Edit\n										Delete\n				\n			\n		\n		\n\n		\n		\n			\n				There are no Crew Members.			\n		\n		\n\n	\n\n	\n				Add Crew Member\n				\n			\n				Maximum number of crew members reached.\n			 \n\nPlease add any additional anglers/crew members who will be participating in the tournament.
URL:https://swycanglers.org/event/halibut-tournament/
LOCATION:Southwestern Yacht Club\, 2702 Qualtrough Street\, San Diego\, CA\, 92106\, United States
END:VEVENT
BEGIN:VEVENT
DTSTART;VALUE=DATE:20230619
DTEND;VALUE=DATE:20230624
DTSTAMP:20260423T102624
CREATED:20230509T185912Z
LAST-MODIFIED:20230524T171758Z
UID:10000007-1687132800-1687564799@swycanglers.org
SUMMARY:Junior Fishing 101 Week 1
DESCRIPTION:
URL:https://swycanglers.org/event/junior-fishing-101-week-1/
LOCATION:Southwestern Yacht Club\, 2702 Qualtrough Street\, San Diego\, CA\, 92106\, United States
END:VEVENT
END:VCALENDAR