BEGIN:VCALENDAR
VERSION:2.0
PRODID:-//SWYC Anglers - ECPv6.15.20//NONSGML v1.0//EN
CALSCALE:GREGORIAN
METHOD:PUBLISH
X-WR-CALNAME:SWYC Anglers
X-ORIGINAL-URL:https://swycanglers.org
X-WR-CALDESC:Events for SWYC Anglers
REFRESH-INTERVAL;VALUE=DURATION:PT1H
X-Robots-Tag:noindex
X-PUBLISHED-TTL:PT1H
BEGIN:VTIMEZONE
TZID:America/Los_Angeles
BEGIN:DAYLIGHT
TZOFFSETFROM:-0800
TZOFFSETTO:-0700
TZNAME:PDT
DTSTART:20230312T100000
END:DAYLIGHT
BEGIN:STANDARD
TZOFFSETFROM:-0700
TZOFFSETTO:-0800
TZNAME:PST
DTSTART:20231105T090000
END:STANDARD
BEGIN:DAYLIGHT
TZOFFSETFROM:-0800
TZOFFSETTO:-0700
TZNAME:PDT
DTSTART:20240310T100000
END:DAYLIGHT
BEGIN:STANDARD
TZOFFSETFROM:-0700
TZOFFSETTO:-0800
TZNAME:PST
DTSTART:20241103T090000
END:STANDARD
BEGIN:DAYLIGHT
TZOFFSETFROM:-0800
TZOFFSETTO:-0700
TZNAME:PDT
DTSTART:20250309T100000
END:DAYLIGHT
BEGIN:STANDARD
TZOFFSETFROM:-0700
TZOFFSETTO:-0800
TZNAME:PST
DTSTART:20251102T090000
END:STANDARD
END:VTIMEZONE
BEGIN:VEVENT
DTSTART;TZID=America/Los_Angeles:20240404T183000
DTEND;TZID=America/Los_Angeles:20240404T203000
DTSTAMP:20260422T071645
CREATED:20231117T065044Z
LAST-MODIFIED:20240526T160410Z
UID:10000046-1712255400-1712262600@swycanglers.org
SUMMARY:General Meeting of the SWYC Anglers-SWYC Anglers Seminar: Todd Mora-Mastering Bottom Fishing
DESCRIPTION:SWYC Anglers 2024 General Meeting & Seminar\n			\n				\n				\n				\n				\n				\n			\n				\n				\n				\n				\n				SWYC Anglers 2024 General Meeting & Seminar
URL:https://swycanglers.org/event/general_meeting_2024/
LOCATION:Southwestern Yacht Club\, 2702 Qualtrough Street\, San Diego\, CA\, 92106\, United States
END:VEVENT
END:VCALENDAR