BEGIN:VCALENDAR
VERSION:2.0
PRODID:-//SWYC Anglers - ECPv6.15.20//NONSGML v1.0//EN
CALSCALE:GREGORIAN
METHOD:PUBLISH
X-WR-CALNAME:SWYC Anglers
X-ORIGINAL-URL:https://swycanglers.org
X-WR-CALDESC:Events for SWYC Anglers
REFRESH-INTERVAL;VALUE=DURATION:PT1H
X-Robots-Tag:noindex
X-PUBLISHED-TTL:PT1H
BEGIN:VTIMEZONE
TZID:America/Los_Angeles
BEGIN:DAYLIGHT
TZOFFSETFROM:-0800
TZOFFSETTO:-0700
TZNAME:PDT
DTSTART:20250309T100000
END:DAYLIGHT
BEGIN:STANDARD
TZOFFSETFROM:-0700
TZOFFSETTO:-0800
TZNAME:PST
DTSTART:20251102T090000
END:STANDARD
BEGIN:DAYLIGHT
TZOFFSETFROM:-0800
TZOFFSETTO:-0700
TZNAME:PDT
DTSTART:20260308T100000
END:DAYLIGHT
BEGIN:STANDARD
TZOFFSETFROM:-0700
TZOFFSETTO:-0800
TZNAME:PST
DTSTART:20261101T090000
END:STANDARD
BEGIN:DAYLIGHT
TZOFFSETFROM:-0800
TZOFFSETTO:-0700
TZNAME:PDT
DTSTART:20270314T100000
END:DAYLIGHT
BEGIN:STANDARD
TZOFFSETFROM:-0700
TZOFFSETTO:-0800
TZNAME:PST
DTSTART:20271107T090000
END:STANDARD
END:VTIMEZONE
BEGIN:VEVENT
DTSTART;VALUE=DATE:20260418
DTEND;VALUE=DATE:20260419
DTSTAMP:20260421T013037
CREATED:20260121T063907Z
LAST-MODIFIED:20260316T193903Z
UID:10000137-1776470400-1776556799@swycanglers.org
SUMMARY:2026 Annual Bottom Fishing Tournament-April 18th
DESCRIPTION:SWYC Anglers Presents: 2026\, Bottom Fishing Tournament\n  \nAPRIL 18th\, 2026\nA FundRaising Tournament \nOpen to Everyone\, \nSWYC Member or Not.\n\n			\n			\n				\n				\n				\n				\n			\n				\n				\n				\n				\n				\n				\n				\n				\n				\n				\n				\n			\n			\n				\n				\n				\n				\n			\n				\n				\n				\n				\n				\n				\n				\n				\n				\n				\n				\n				\n			\n				\n				\n				\n				\n				\n				\n			\n			\n				\n				\n				\n				\n			\n				\n				\n			\n				\n				\n				\n				\n				\n				\n				\n				\n				\n				\n				\n				\n				\n				\n				\n				\n				\n				Rules for 2026 Bottom Tournament  (Click Here)\n			\n			\n				\n				\n				\n				\n			\n				\n				\n				\n				\n				\n				\n				\n				\n				\n				\n				HISTORY OF THIS EVENT: \nA Fun Look Back at How It All Started \nBack in 1971\, SWYC Angler Skelly Wilber had a simple idea: winter was too quiet\, so why not get everyone out on the water for some friendly competition. That first Bottom Fishing Tournament was such a hit that it quickly became an annual tradition – and not just for SWYC. The tournament became an Invitational event open to Anglers from clubs all over San Diego\, who brought their families\, their competitive spirit\, and plenty of fish stories.  Over the decades\, the tournament has transformed from a fun off‑season get‑together into one of SWYC’s most beloved signature charity events.  The tournament supports various charities but has become closely associated with Captain Rollo’s Kids at Sea. \nAnd that’s where Captain Rollo comes in. \nThe Heart Behind the Cause – Captain Rollo \nJames “Rollo” Heyn wasn’t just a legendary long‑range captain of the Royal Polaris – he was the kind of guy who made everyone feel welcome on the water. He loved teaching kids to fish\, to respect the ocean\, and to experience the magic of being out at sea. \nAfter he passed\, his friends and fellow anglers created Captain Rollo’s Kids at Sea to keep that spirit alive. Since 1999\, this incredible mostly volunteer‑run nonprofit introduces children from all backgrounds to the magic of the ocean. From San Diego to San Francisco\, they’ve taken over 150\,000 kids on half‑day fishing trips\, opening doors to marine education\, environmental stewardship\, and even future careers on the water.  \nFor many of the kids\, it’s their first time on a boat – and it opens their eyes to a world they might never have seen and sparks a lifelong connection to the ocean.  That’s why this tournament matters.  Every entry\, every raffle ticket\, every auction item and/or experience donated\, every bit of support helps keep those trips for the kids going.  Supporting this tournament means supporting those life‑changing moments. \nJOIN US – APRIL 18\, 2026 \nWhat began as a small winter fishing challenge is now a full day of fun\, community\, and giving back. Whether you’re a seasoned angler\, a first‑timer\, or just here for the fish fry fiesta and good vibes\, you’re part of something special. \nEVERYONE’S WELCOME – MEMBERS\, NON‑MEMBERS & GUESTS \nEnjoy a full day on the water\, including: \n\nBreakfast\nTournament fishing\nEvent T‑shirt\nMexican Fiesta Banquet\nCash Awards\nSilent & Live Auctions\nTargeted Raffles\n\nEntry Fees \n\nAdults: $75 Early Bird (before 4/03/26)\nAdults: $100 (4/03/26 and after)\nJuniors (16 & under): $50\nDinner/You Pick Raffle/Silent and Live Auctions‑only guests: $50\n\nCome fish\, laugh\, celebrate\, and help us inspire the next generation of ocean lovers. Let’s make this year’s tournament the best one yet. \n			\n			\n				\n				\n				\n				\n			\n				\n				\n				\n				\n				\n				\n				Click Here: Tournament Registration is now live!\n			\n				Click Here: Dinner Registration Only\n			\n				Click Here: Captian Rollo's Kids Donation Form
URL:https://swycanglers.org/event/2026-annual-bottom-fishing-tournament-april-18th/
LOCATION:CA
ORGANIZER;CN="SWYC Anglers Board":MAILTO:anglers@swycanglers.org
END:VEVENT
END:VCALENDAR