BEGIN:VCALENDAR
VERSION:2.0
PRODID:-//SWYC Anglers - ECPv6.15.20//NONSGML v1.0//EN
CALSCALE:GREGORIAN
METHOD:PUBLISH
X-WR-CALNAME:SWYC Anglers
X-ORIGINAL-URL:https://swycanglers.org
X-WR-CALDESC:Events for SWYC Anglers
REFRESH-INTERVAL;VALUE=DURATION:PT1H
X-Robots-Tag:noindex
X-PUBLISHED-TTL:PT1H
BEGIN:VTIMEZONE
TZID:America/Los_Angeles
BEGIN:DAYLIGHT
TZOFFSETFROM:-0800
TZOFFSETTO:-0700
TZNAME:PDT
DTSTART:20220313T100000
END:DAYLIGHT
BEGIN:STANDARD
TZOFFSETFROM:-0700
TZOFFSETTO:-0800
TZNAME:PST
DTSTART:20221106T090000
END:STANDARD
BEGIN:DAYLIGHT
TZOFFSETFROM:-0800
TZOFFSETTO:-0700
TZNAME:PDT
DTSTART:20230312T100000
END:DAYLIGHT
BEGIN:STANDARD
TZOFFSETFROM:-0700
TZOFFSETTO:-0800
TZNAME:PST
DTSTART:20231105T090000
END:STANDARD
BEGIN:DAYLIGHT
TZOFFSETFROM:-0800
TZOFFSETTO:-0700
TZNAME:PDT
DTSTART:20240310T100000
END:DAYLIGHT
BEGIN:STANDARD
TZOFFSETFROM:-0700
TZOFFSETTO:-0800
TZNAME:PST
DTSTART:20241103T090000
END:STANDARD
END:VTIMEZONE
BEGIN:VEVENT
DTSTART;TZID=America/Los_Angeles:20230614T183000
DTEND;TZID=America/Los_Angeles:20230614T210000
DTSTAMP:20260423T115258
CREATED:20230601T205722Z
LAST-MODIFIED:20230622T231743Z
UID:10000019-1686767400-1686776400@swycanglers.org
SUMMARY:Anglers Seminar With Captain Mark Martin
DESCRIPTION:SWYC Anglers Present: Fishing Strategies for Success by Captian Mark Martin.\n			\n				\n				\n				\n				\n				\n			\n			\n				\n				\n				\n				\n			\n				\n				\n				\n				\n				\n				\n				\n				\n				\n				\n				SWYC Anglers Present: Fishing Strategies for Success by Captian Mark Martin.
URL:https://swycanglers.org/event/anglers-seminar-with-captain-mark-martin/
LOCATION:Southwestern Yacht Club\, 2702 Qualtrough Street\, San Diego\, CA\, 92106\, United States
END:VEVENT
END:VCALENDAR