BEGIN:VCALENDAR
VERSION:2.0
PRODID:-//SWYC Anglers - ECPv6.15.20//NONSGML v1.0//EN
CALSCALE:GREGORIAN
METHOD:PUBLISH
X-WR-CALNAME:SWYC Anglers
X-ORIGINAL-URL:https://swycanglers.org
X-WR-CALDESC:Events for SWYC Anglers
REFRESH-INTERVAL;VALUE=DURATION:PT1H
X-Robots-Tag:noindex
X-PUBLISHED-TTL:PT1H
BEGIN:VTIMEZONE
TZID:America/Los_Angeles
BEGIN:DAYLIGHT
TZOFFSETFROM:-0800
TZOFFSETTO:-0700
TZNAME:PDT
DTSTART:20220313T100000
END:DAYLIGHT
BEGIN:STANDARD
TZOFFSETFROM:-0700
TZOFFSETTO:-0800
TZNAME:PST
DTSTART:20221106T090000
END:STANDARD
BEGIN:DAYLIGHT
TZOFFSETFROM:-0800
TZOFFSETTO:-0700
TZNAME:PDT
DTSTART:20230312T100000
END:DAYLIGHT
BEGIN:STANDARD
TZOFFSETFROM:-0700
TZOFFSETTO:-0800
TZNAME:PST
DTSTART:20231105T090000
END:STANDARD
BEGIN:DAYLIGHT
TZOFFSETFROM:-0800
TZOFFSETTO:-0700
TZNAME:PDT
DTSTART:20240310T100000
END:DAYLIGHT
BEGIN:STANDARD
TZOFFSETFROM:-0700
TZOFFSETTO:-0800
TZNAME:PST
DTSTART:20241103T090000
END:STANDARD
END:VTIMEZONE
BEGIN:VEVENT
DTSTART;TZID=America/Los_Angeles:20230501T080000
DTEND;TZID=America/Los_Angeles:20230501T170000
DTSTAMP:20260423T144757
CREATED:20230419T170726Z
LAST-MODIFIED:20240416T140924Z
UID:10000003-1682928000-1682960400@swycanglers.org
SUMMARY:Harry Okuda Memorial Yellowtail Tournament
DESCRIPTION:Harry Okuda Yellowtail Contest Weigh Slip\n							"*" indicates required fields \n                        \n                        PhoneThis field is for validation purposes and should be left unchanged.Angler InformationAngler Name*\n                            \n                            \n                                                    First\n                                                    \n                                                \n                            \n                            \n                                                            Last\n                                                            \n                                                        \n                            \n                        Angler Email*\n                            \n                        Angler Type*ManLadyJunior Boy (11-16)Junior Girl (11-16)Smallfry Boy (0-10)Smallfry Girl (0-10)Guest/OtherBoat InformationBoat Name*Boat Type*Small (26' & Under)LargeSailCatch/Fish InformationSpecies*\n			\n					\n					Yellowtail\n			\n			\n					\n					Other\n			Weight of Catch*Date of Catch*\n                            \n                            MM slash DD slash YYYY\n                        \n                        Line Test Weight*Check All That Apply\n								\n								Weight on the water (fish under 15lbs only)\n							\n								\n								Caught on Fly Rod\n							Certification & SignatureCertification* I certify this catch was made under IGFA/SWYC rulesIGFA Rules\nLine Test = the breaking strength of the first 5 meters (16.5 feet) of line\ndirectly preceding the double line\, leader\, or hook.\nLeader = 20 lb and below line class = The combined length of the double line\nand leader shall not exceed 6.1 meters (20 feet). 30 lb to 130 lb line class = The\ncombined length of the double line and leader shall not exceed 12.19 meters\n(40 feet).\nGaffs (including flying gaffs) and nets used to boat or land a fish must not\nexceed 2.44 meters (8 feet) in overall length.\nResting the rod in a rod holder\, on the gunwale of the boat\, or any other\nobject while playing the fish is not allowed.\nMutilation to the fish\, prior to landing or boating the catch\, caused by\nsharks\, other fish\, mammals\, or propellers that remove or penetrate the flesh\nwill disqualify the catch.Angler Signature*Catch Photo/Video Upload\n										\n											Drop files here or \n											Select files\n										\n									Accepted file types: jpg\, png\, gif\, mov\, mp4\, heic\, heiv\, pdf\, nef\, Max. file size: 124 MB. Witness of Catch\n                            \n                            \n                                                    Witness Name\n                                                    \n                                                \n                            \n                            \n                                                            Witness Contact Info
URL:https://swycanglers.org/event/harry-okuda-memorial-yellowtail-tournament/
LOCATION:CA
END:VEVENT
END:VCALENDAR